BEGIN:VCALENDAR
VERSION:2.0
PRODID:-//wp-events-plugin.com//7.2.3.1//EN
BEGIN:VEVENT
UID:80@thuisinhetbos.net
DTSTART;TZID=Europe/Amsterdam:20260618T193000
DTEND;TZID=Europe/Amsterdam:20260618T220000
DTSTAMP:20260209T101844Z
URL:https://thuisinhetbos.net/events2/zonnekracht-bosbad-landgoed-zonheuve
 l/
SUMMARY:Zonnekracht - Bosbad Landgoed Zonheuvel
DESCRIPTION:Rond de langste dag van het jaar vieren we het volle licht.Het 
 bos staat in kracht\, het leven is zichtbaar aanwezig.We staan stil bij ov
 ervloed\, dankbaarheid en wat dit seizoen ons schenkt.\nThema’s: vitalit
 eit · aanwezigheid · oogst van licht
ATTACH;FMTTYPE=image/jpeg:https://thuisinhetbos.net/wp-content/uploads/202
 5/12/2025-11-12-Bosbad-10-1-scaled.jpg
END:VEVENT
BEGIN:VTIMEZONE
TZID:Europe/Amsterdam
X-LIC-LOCATION:Europe/Amsterdam
BEGIN:DAYLIGHT
DTSTART:20260329T030000
TZOFFSETFROM:+0100
TZOFFSETTO:+0200
TZNAME:CEST
END:DAYLIGHT
END:VTIMEZONE
END:VCALENDAR