BEGIN:VCALENDAR
VERSION:2.0
PRODID:-//wp-events-plugin.com//7.2.3.1//EN
BEGIN:VEVENT
UID:71@thuisinhetbos.net
DTSTART;TZID=Europe/Amsterdam:20260423T130000
DTEND;TZID=Europe/Amsterdam:20260423T130000
DTSTAMP:20260302T201345Z
URL:https://thuisinhetbos.net/events2/verdiepingsjaar-natuurverbinding-202
 6-in-het-ritme-van-de-aarde/
SUMMARY:Verdiepingsjaar Natuurverbinding 2026: In het Ritme van de Aarde
DESCRIPTION:In het Ritme van de Aarde – Verdiepingsjaar 2026\n\nApril –
  november | Utrechtse Heuvelrug\n\nEen leerweg over vier seizoenen.\nEen k
 leine\, gedragen groep van maximaal 10 mensen.\n\nIn dit jaartraject is de
  natuur geen achtergrond\, maar richtinggever. We vertragen\, oefenen in w
 aarnemen en laten ervaring zakken in het lijf. Geworteld in spirituele eco
 logie – met invloeden uit deep ecology\, shinrin-yoku en Europese animis
 tische tradities – bewegen we met het ritme van de aarde.\n\nVier ontmoe
 tingen:\n\nLente – zintuigen openen\n\nZomer – een begeleide nacht ond
 er de sterren\n\nHerfst – dankbaarheid en delen\n\nWinter – vuur\, voo
 rouders en verstilling\n\nVoor mensen die hun relatie met de natuur willen
  verdiepen — persoonlijk én professioneel.\nFlyer In het Ritme van de A
 arde\n\nVoel je een ja?\nStuur vóór 21 maart een korte motivatie en we n
 emen persoonlijk contact met je op.\nBekijk voor alle data\, bijdrage en p
 raktische informatie de volledige flyer.
ATTACH;FMTTYPE=image/jpeg:https://thuisinhetbos.net/wp-content/uploads/202
 5/12/2025-11-12-Bosbad-39-scaled.jpg
END:VEVENT
BEGIN:VTIMEZONE
TZID:Europe/Amsterdam
X-LIC-LOCATION:Europe/Amsterdam
BEGIN:DAYLIGHT
DTSTART:20260329T030000
TZOFFSETFROM:+0100
TZOFFSETTO:+0200
TZNAME:CEST
END:DAYLIGHT
END:VTIMEZONE
END:VCALENDAR