BEGIN:VCALENDAR
VERSION:2.0
PRODID:-//wp-events-plugin.com//7.2.3.1//EN
BEGIN:VEVENT
UID:79@thuisinhetbos.net
DTSTART;TZID=Europe/Amsterdam:20260521T190000
DTEND;TZID=Europe/Amsterdam:20260521T220000
DTSTAMP:20260302T200647Z
URL:https://thuisinhetbos.net/events2/mooie-mei-avond-bosbad-bomenmuseum/
SUMMARY:Mooie Mei Avond Bosbad - Bomenmuseum
DESCRIPTION:In mei komt de natuur tot volle bloei. De zoete bloemengeuren\,
  het groeiend groen en de kleurenpracht prikkelen je zintuigen. Ervaar de 
 rust en schoonheid van een avond Bosbad. Een privilege om na sluitingstijd
  het bomenmuseum te mogen bewonderen.\n\nEen bosbad\, ook bekend als het J
 apanse Shinrin-yoku\, is een intense onderdompeling in de natuur. Je ervaa
 rt de natuur met al je zintuigen. Bosbaden laat je verwonderen\, verstille
 n en zorgt voor ontspanning. Ook verdiep je jouw persoonlijke verbinding m
 et de natuur om je heen.\n\nBosbadgidsen Mirjam de Boer en Stefanie Boomsm
 a nemen je mee naar de mooiste plekjes van het bomenmuseum. Het bosbad duu
 rt 3 uur inclusief een theeceremonie tussen de bomen.\n\nDit bosbad is te 
 boeken via Hipsy. Klik hier voor meer informatie. 
ATTACH;FMTTYPE=image/jpeg:https://thuisinhetbos.net/wp-content/uploads/202
 5/12/2025-11-12-Bosbad-14-scaled.jpg
END:VEVENT
BEGIN:VTIMEZONE
TZID:Europe/Amsterdam
X-LIC-LOCATION:Europe/Amsterdam
BEGIN:DAYLIGHT
DTSTART:20260329T030000
TZOFFSETFROM:+0100
TZOFFSETTO:+0200
TZNAME:CEST
END:DAYLIGHT
END:VTIMEZONE
END:VCALENDAR