BEGIN:VCALENDAR
VERSION:2.0
PRODID:-//wp-events-plugin.com//7.2.3.1//EN
BEGIN:VEVENT
UID:81@thuisinhetbos.net
DTSTART;TZID=Europe/Amsterdam:20260625T190000
DTEND;TZID=Europe/Amsterdam:20260625T220000
DTSTAMP:20260302T201801Z
URL:https://thuisinhetbos.net/events2/midzomeravond-bosbad-in-het-nationaa
 l-bomenmuseum-doorn-2/
SUMMARY:Midzomeravond - Bosbad in het Nationaal Bomenmuseum Doorn
DESCRIPTION:Laat de drukte van de dag achter je en kom tot rust in het bome
 nmuseum tijdens het midzomeravond bosbad. Onder de warme gloed van de avon
 dzon herontdekken we de kracht van verbinding met de natuur.\n\nHet bomenm
 useum is officieel gesloten vanaf 19 uur. Dus we hebben het arboretum hele
 maal voor onszelf.\n\nEen bosbad\, ook bekend als het Japanse Shinrin-yoku
 \, is een onderdompeling in de natuur. Je ervaart de natuur met al je zint
 uigen. Bosbaden laat je verwonderen\, verstillen en zorgt voor ontspanning
 . Ook verdiep je jouw persoonlijke verbinding met de natuur om je heen.\n\
 nBosbad gidsen Stefanie Boomsma van Thuis in het Bos en Mirjam de Boer van
  The Art of Forest Bathing nemen je mee naar de mooiste plekjes van het bo
 menmuseum.\n\nDe deelname aan het bosbad bedraagt 38 euro. Dit is exclusie
 f 8\,50 euro entree* voor het Bomenmuseum. Abonnementhouders betalen geen 
 entree. Leeftijd vanaf 12 jaar.\n\nPraktische informatie:\n* Breng een kle
 edje of kussentje mee om op te zitten of liggen.\n* Draag passende kleding
  (laagjes\, kleed je warm aan). Het gaat door bij iedere weersomstandighei
 d.\n\nLet op: we starten vanaf de ingang het bomenmuseum. Zorg dat je iets
  voor de aanvangstijd aanwezig bent!\n\nJe krijgt aan het einde van het Bo
 sbad kruiden thee met wat lekkers. Is er iets waarmee we rekening kunnen h
 ouden\, zoals allergieën? Of is er iets anders dat handig voor ons is om 
 te weten? Mail ons op tijd!\n\nTot ziens tussen de bomen! Dit evenement is
  te boeken via Hipsy. Klik hier voor meer informatie.\n\nMet zonnige groet
 en\,\n\nMirjam de Boer & Stefanie Boomsma\n\nThe Art of Forest Bathing & T
 huis in het Bos\n\nVolgens ons ook op Instagram via: @forestbathingart & @
 thuis_in_het_bos
ATTACH;FMTTYPE=image/jpeg:https://thuisinhetbos.net/wp-content/uploads/202
 4/01/DSC_8680-scaled.jpg
END:VEVENT
BEGIN:VTIMEZONE
TZID:Europe/Amsterdam
X-LIC-LOCATION:Europe/Amsterdam
BEGIN:DAYLIGHT
DTSTART:20260329T030000
TZOFFSETFROM:+0100
TZOFFSETTO:+0200
TZNAME:CEST
END:DAYLIGHT
END:VTIMEZONE
END:VCALENDAR